Package: scTreeViz Version: 1.16.0 Command: /home/biocbuild/bbs-3.22-bioc/R/bin/R CMD build --keep-empty-dirs --no-resave-data --md5 scTreeViz StartedAt: 2025-11-11 20:08:09 -0500 (Tue, 11 Nov 2025) EndedAt: 2025-11-11 20:10:39 -0500 (Tue, 11 Nov 2025) EllapsedTime: 150.1 seconds RetCode: 0 Status: OK PackageFile: scTreeViz_1.16.0.tar.gz PackageFileSize: 2.3 MiB