Package: scTreeViz Version: 1.14.1 Command: /Library/Frameworks/R.framework/Resources/bin/R CMD INSTALL scTreeViz StartedAt: 2025-09-25 16:43:25 -0400 (Thu, 25 Sep 2025) EndedAt: 2025-09-25 16:45:52 -0400 (Thu, 25 Sep 2025) EllapsedTime: 146.7 seconds RetCode: 0 Status: OK