Package: scTreeViz Version: 1.14.1 Command: /Library/Frameworks/R.framework/Resources/bin/R CMD INSTALL scTreeViz StartedAt: 2025-09-25 18:17:33 -0400 (Thu, 25 Sep 2025) EndedAt: 2025-09-25 18:18:56 -0400 (Thu, 25 Sep 2025) EllapsedTime: 82.9 seconds RetCode: 0 Status: OK