Package: scTensor Version: 2.20.0 Command: /home/biocbuild/R/R/bin/R CMD INSTALL scTensor StartedAt: 2025-11-13 21:59:31 -0000 (Thu, 13 Nov 2025) EndedAt: 2025-11-13 22:00:41 -0000 (Thu, 13 Nov 2025) EllapsedTime: 69.9 seconds RetCode: 0 Status: OK