Package: scTensor Version: 2.20.0 Command: /home/biocbuild/R/R/bin/R CMD build --keep-empty-dirs --no-resave-data scTensor StartedAt: 2025-11-14 05:15:50 -0000 (Fri, 14 Nov 2025) EndedAt: 2025-11-14 05:18:29 -0000 (Fri, 14 Nov 2025) EllapsedTime: 159.1 seconds RetCode: 0 Status: OK PackageFile: scTensor_2.20.0.tar.gz PackageFileSize: 10.38 MiB