Package: scTensor Version: 2.19.2 Command: F:\biocbuild\bbs-3.22-bioc\R\bin\R.exe CMD INSTALL scTensor StartedAt: 2025-08-14 16:45:36 -0400 (Thu, 14 Aug 2025) EndedAt: 2025-08-14 16:46:55 -0400 (Thu, 14 Aug 2025) EllapsedTime: 78.4 seconds RetCode: 0 Status: OK