Package: scTensor Version: 2.19.2 Command: chmod a+r scTensor -R && F:\biocbuild\bbs-3.22-bioc\R\bin\R.exe CMD build --keep-empty-dirs --no-resave-data scTensor StartedAt: 2025-08-14 23:10:33 -0400 (Thu, 14 Aug 2025) EndedAt: 2025-08-14 23:13:11 -0400 (Thu, 14 Aug 2025) EllapsedTime: 157.9 seconds RetCode: 0 Status: OK PackageFile: scTensor_2.19.2.tar.gz PackageFileSize: 10.26 MiB