Package: scTensor Version: 2.19.2 Command: rm -rf scTensor.buildbin-libdir && mkdir scTensor.buildbin-libdir && F:\biocbuild\bbs-3.22-bioc\R\bin\R.exe CMD INSTALL --build --library=scTensor.buildbin-libdir scTensor_2.19.2.tar.gz StartedAt: 2025-08-15 11:17:00 -0400 (Fri, 15 Aug 2025) EndedAt: 2025-08-15 11:18:36 -0400 (Fri, 15 Aug 2025) EllapsedTime: 96.2 seconds RetCode: 0 Status: OK PackageFile: scTensor_2.19.2.zip PackageFileSize: 5.663 MiB