Package: scTensor Version: 2.18.2 Command: /home/biocbuild/bbs-3.21-bioc/R/bin/R CMD INSTALL scTensor StartedAt: 2025-10-05 15:46:30 -0400 (Sun, 05 Oct 2025) EndedAt: 2025-10-05 15:47:24 -0400 (Sun, 05 Oct 2025) EllapsedTime: 53.7 seconds RetCode: 0 Status: OK