Package: scTensor Version: 2.18.2 Command: /home/biocbuild/bbs-3.21-bioc/R/bin/R CMD build --keep-empty-dirs --no-resave-data scTensor StartedAt: 2025-10-05 19:50:44 -0400 (Sun, 05 Oct 2025) EndedAt: 2025-10-05 19:52:36 -0400 (Sun, 05 Oct 2025) EllapsedTime: 112.1 seconds RetCode: 0 Status: OK PackageFile: scTensor_2.18.2.tar.gz PackageFileSize: 10.31 MiB