Package: scTensor Version: 2.18.2 Command: /Library/Frameworks/R.framework/Resources/bin/R CMD INSTALL scTensor StartedAt: 2025-10-13 16:30:23 -0400 (Mon, 13 Oct 2025) EndedAt: 2025-10-13 16:32:25 -0400 (Mon, 13 Oct 2025) EllapsedTime: 121.2 seconds RetCode: 0 Status: OK