Package: scTensor Version: 2.17.0 Command: rm -rf scTensor.buildbin-libdir && mkdir scTensor.buildbin-libdir && /Users/biocbuild/BBS/utils/build-universal.sh scTensor_2.17.0.tar.gz /Library/Frameworks/R.framework/Resources/bin/R scTensor.buildbin-libdir StartedAt: 2025-04-07 01:24:46 -0400 (Mon, 07 Apr 2025) EndedAt: 2025-04-07 01:26:15 -0400 (Mon, 07 Apr 2025) EllapsedTime: 89.9 seconds RetCode: 0 Status: OK PackageFile: scTensor_2.17.0.tgz PackageFileSize: 5.88 MiB