Package: scTensor Version: 2.18.2 Command: /home/biocbuild/R/R/bin/R CMD INSTALL scTensor StartedAt: 2025-09-25 21:07:41 -0000 (Thu, 25 Sep 2025) EndedAt: 2025-09-25 21:08:55 -0000 (Thu, 25 Sep 2025) EllapsedTime: 73.9 seconds RetCode: 0 Status: OK