Package: scTensor Version: 2.18.2 Command: /Library/Frameworks/R.framework/Resources/bin/R CMD INSTALL scTensor StartedAt: 2025-10-06 17:56:10 -0400 (Mon, 06 Oct 2025) EndedAt: 2025-10-06 17:57:19 -0400 (Mon, 06 Oct 2025) EllapsedTime: 68.9 seconds RetCode: 0 Status: OK