Package: scTensor Version: 2.18.2 Command: /Library/Frameworks/R.framework/Resources/bin/R CMD build --keep-empty-dirs --no-resave-data scTensor StartedAt: 2025-10-07 09:31:48 -0400 (Tue, 07 Oct 2025) EndedAt: 2025-10-07 09:34:31 -0400 (Tue, 07 Oct 2025) EllapsedTime: 163.5 seconds RetCode: 0 Status: OK PackageFile: scTensor_2.18.2.tar.gz PackageFileSize: 10.49 MiB