Package: scTHI Version: 1.22.0 Command: /home/biocbuild/bbs-3.22-bioc/R/bin/R CMD check --install=check:scTHI.install-out.txt --library=/home/biocbuild/bbs-3.22-bioc/R/site-library --timings scTHI_1.22.0.tar.gz StartedAt: 2025-11-14 04:01:41 -0500 (Fri, 14 Nov 2025) EndedAt: 2025-11-14 04:03:31 -0500 (Fri, 14 Nov 2025) EllapsedTime: 110.1 seconds RetCode: 0 Status: OK CheckDir: scTHI.Rcheck Warnings: 0