Package: scTHI Version: 1.20.0 Command: /home/biocbuild/R/R/bin/R CMD INSTALL scTHI StartedAt: 2025-09-29 20:16:13 -0000 (Mon, 29 Sep 2025) EndedAt: 2025-09-29 20:16:43 -0000 (Mon, 29 Sep 2025) EllapsedTime: 29.5 seconds RetCode: 0 Status: OK