Package: scTHI Version: 1.20.0 Command: /home/biocbuild/R/R/bin/R CMD build --keep-empty-dirs --no-resave-data scTHI StartedAt: 2025-09-30 05:09:39 -0000 (Tue, 30 Sep 2025) EndedAt: 2025-09-30 05:11:35 -0000 (Tue, 30 Sep 2025) EllapsedTime: 116.0 seconds RetCode: 0 Status: OK PackageFile: scTHI_1.20.0.tar.gz PackageFileSize: 701.4 KiB