Package: scTHI Version: 1.20.0 Command: /Library/Frameworks/R.framework/Resources/bin/R CMD build --keep-empty-dirs --no-resave-data scTHI StartedAt: 2025-10-14 09:10:41 -0400 (Tue, 14 Oct 2025) EndedAt: 2025-10-14 09:12:16 -0400 (Tue, 14 Oct 2025) EllapsedTime: 94.4 seconds RetCode: 0 Status: OK PackageFile: scTHI_1.20.0.tar.gz PackageFileSize: 905.1 KiB