Package: scTGIF Version: 1.24.0 Command: /home/biocbuild/bbs-3.22-bioc/R/bin/R CMD check --install=check:scTGIF.install-out.txt --library=/home/biocbuild/bbs-3.22-bioc/R/site-library --timings scTGIF_1.24.0.tar.gz StartedAt: 2025-11-17 04:05:12 -0500 (Mon, 17 Nov 2025) EndedAt: 2025-11-17 04:10:43 -0500 (Mon, 17 Nov 2025) EllapsedTime: 331.3 seconds RetCode: 0 Status: OK CheckDir: scTGIF.Rcheck Warnings: 0