Package: scTGIF Version: 1.24.0 Command: /Library/Frameworks/R.framework/Resources/bin/R CMD INSTALL scTGIF StartedAt: 2025-11-03 15:31:36 -0500 (Mon, 03 Nov 2025) EndedAt: 2025-11-03 15:32:23 -0500 (Mon, 03 Nov 2025) EllapsedTime: 47.6 seconds RetCode: 0 Status: OK