Package: scTGIF Version: 1.22.0 Command: /home/biocbuild/R/R/bin/R CMD build --keep-empty-dirs --no-resave-data scTGIF StartedAt: 2025-10-14 04:35:04 -0000 (Tue, 14 Oct 2025) EndedAt: 2025-10-14 04:36:33 -0000 (Tue, 14 Oct 2025) EllapsedTime: 89.0 seconds RetCode: 0 Status: OK PackageFile: scTGIF_1.22.0.tar.gz PackageFileSize: 2.41 MiB