Package: scShapes Version: 1.16.0 Command: /home/biocbuild/bbs-3.22-bioc/R/bin/R CMD build --keep-empty-dirs --no-resave-data --md5 scShapes StartedAt: 2025-11-11 20:07:24 -0500 (Tue, 11 Nov 2025) EndedAt: 2025-11-11 20:08:44 -0500 (Tue, 11 Nov 2025) EllapsedTime: 80.1 seconds RetCode: 0 Status: OK PackageFile: scShapes_1.16.0.tar.gz PackageFileSize: 31.31 KiB