Package: scShapes Version: 1.14.0 Command: /home/biocbuild/bbs-3.21-bioc/R/bin/R CMD build --keep-empty-dirs --no-resave-data scShapes StartedAt: 2025-10-08 19:47:18 -0400 (Wed, 08 Oct 2025) EndedAt: 2025-10-08 19:48:40 -0400 (Wed, 08 Oct 2025) EllapsedTime: 82.0 seconds RetCode: 0 Status: OK PackageFile: scShapes_1.14.0.tar.gz PackageFileSize: 30.09 KiB