Package: scShapes Version: 1.14.0 Command: /Library/Frameworks/R.framework/Resources/bin/R CMD INSTALL scShapes StartedAt: 2025-04-21 15:05:57 -0400 (Mon, 21 Apr 2025) EndedAt: 2025-04-21 15:06:29 -0400 (Mon, 21 Apr 2025) EllapsedTime: 31.5 seconds RetCode: 0 Status: OK