Package: scRepertoire Version: 2.6.0 Command: /home/biocbuild/bbs-3.22-bioc/R/bin/R CMD INSTALL scRepertoire StartedAt: 2025-11-11 15:27:49 -0500 (Tue, 11 Nov 2025) EndedAt: 2025-11-11 15:28:42 -0500 (Tue, 11 Nov 2025) EllapsedTime: 52.4 seconds RetCode: 0 Status: OK