Package: scRepertoire Version: 2.4.0 Command: /home/biocbuild/R/R/bin/R CMD build --keep-empty-dirs --no-resave-data scRepertoire StartedAt: 2025-10-14 04:32:58 -0000 (Tue, 14 Oct 2025) EndedAt: 2025-10-14 04:39:13 -0000 (Tue, 14 Oct 2025) EllapsedTime: 375.2 seconds RetCode: 0 Status: OK PackageFile: scRepertoire_2.4.0.tar.gz PackageFileSize: 21.2 MiB