Package: scRepertoire Version: 2.6.0 Command: /Library/Frameworks/R.framework/Resources/bin/R CMD INSTALL scRepertoire StartedAt: 2025-10-31 15:18:22 -0400 (Fri, 31 Oct 2025) EndedAt: 2025-10-31 15:18:41 -0400 (Fri, 31 Oct 2025) EllapsedTime: 19.4 seconds RetCode: 0 Status: OK