Package: scRepertoire Version: 2.6.0 Command: /Library/Frameworks/R.framework/Resources/bin/R CMD build --keep-empty-dirs --no-resave-data scRepertoire StartedAt: 2025-10-31 17:45:10 -0400 (Fri, 31 Oct 2025) EndedAt: 2025-10-31 17:46:42 -0400 (Fri, 31 Oct 2025) EllapsedTime: 92.0 seconds RetCode: 1 Status: ERROR PackageFile: None PackageFileSize: NA