Package: scRecover Version: 1.26.0 Command: /home/biocbuild/R/R/bin/R CMD build --keep-empty-dirs --no-resave-data scRecover StartedAt: 2025-11-18 04:57:01 -0000 (Tue, 18 Nov 2025) EndedAt: 2025-11-18 04:59:21 -0000 (Tue, 18 Nov 2025) EllapsedTime: 140.0 seconds RetCode: 0 Status: OK PackageFile: scRecover_1.26.0.tar.gz PackageFileSize: 1.776 MiB