Package: scRecover Version: 1.24.0 Command: /home/biocbuild/bbs-3.21-bioc/R/bin/R CMD INSTALL scRecover StartedAt: 2025-10-12 15:06:21 -0400 (Sun, 12 Oct 2025) EndedAt: 2025-10-12 15:07:00 -0400 (Sun, 12 Oct 2025) EllapsedTime: 39.1 seconds RetCode: 0 Status: OK