Package: scRecover Version: 1.24.0 Command: /home/biocbuild/bbs-3.21-bioc/R/bin/R CMD build --keep-empty-dirs --no-resave-data scRecover StartedAt: 2025-10-15 19:47:06 -0400 (Wed, 15 Oct 2025) EndedAt: 2025-10-15 19:48:44 -0400 (Wed, 15 Oct 2025) EllapsedTime: 98.0 seconds RetCode: 0 Status: OK PackageFile: scRecover_1.24.0.tar.gz PackageFileSize: 1.713 MiB