Package: scRecover Version: 1.24.0 Command: /Library/Frameworks/R.framework/Resources/bin/R CMD INSTALL scRecover StartedAt: 2025-10-13 15:18:22 -0400 (Mon, 13 Oct 2025) EndedAt: 2025-10-13 15:18:51 -0400 (Mon, 13 Oct 2025) EllapsedTime: 29.2 seconds RetCode: 0 Status: OK