Package: scRecover Version: 1.24.0 Command: /Library/Frameworks/R.framework/Resources/bin/R CMD build --keep-empty-dirs --no-resave-data scRecover StartedAt: 2025-10-14 09:02:16 -0400 (Tue, 14 Oct 2025) EndedAt: 2025-10-14 09:04:16 -0400 (Tue, 14 Oct 2025) EllapsedTime: 120.1 seconds RetCode: 0 Status: OK PackageFile: scRecover_1.24.0.tar.gz PackageFileSize: 1.713 MiB