Package: scRecover Version: 1.24.0 Command: rm -rf scRecover.buildbin-libdir && mkdir scRecover.buildbin-libdir && /Users/biocbuild/BBS/utils/build-universal.sh scRecover_1.24.0.tar.gz /Library/Frameworks/R.framework/Resources/bin/R scRecover.buildbin-libdir StartedAt: 2025-10-15 20:25:02 -0400 (Wed, 15 Oct 2025) EndedAt: 2025-10-15 20:25:16 -0400 (Wed, 15 Oct 2025) EllapsedTime: 13.6 seconds RetCode: 0 Status: OK PackageFile: scRecover_1.24.0.tgz PackageFileSize: 1.167 MiB