Package: scRecover Version: 1.24.0 Maintainer: Zhun Miao MaintainerEmail: miaoz13 at tsinghua.org.cn git_url: https://git.bioconductor.org/packages/scRecover git_branch: RELEASE_3_21 git_last_commit: 48612dd git_last_commit_date: 2025-04-15 11:43:47 -0400 (Tue, 15 Apr 2025)