Package: scReClassify Version: 1.16.0 Command: /home/biocbuild/R/R/bin/R CMD INSTALL scReClassify StartedAt: 2025-11-10 22:12:12 -0000 (Mon, 10 Nov 2025) EndedAt: 2025-11-10 22:12:40 -0000 (Mon, 10 Nov 2025) EllapsedTime: 28.5 seconds RetCode: 0 Status: OK