Package: scReClassify Version: 1.16.0 Command: /home/biocbuild/R/R/bin/R CMD check --install=check:scReClassify.install-out.txt --library=/home/biocbuild/R/R/site-library --no-vignettes --timings scReClassify_1.16.0.tar.gz StartedAt: 2025-11-18 14:56:22 -0000 (Tue, 18 Nov 2025) EndedAt: 2025-11-18 15:00:56 -0000 (Tue, 18 Nov 2025) EllapsedTime: 273.4 seconds RetCode: 0 Status: OK CheckDir: scReClassify.Rcheck Warnings: 0