Package: scReClassify Version: 1.16.0 Command: /home/biocbuild/R/R/bin/R CMD build --keep-empty-dirs --no-resave-data scReClassify StartedAt: 2025-11-11 04:59:53 -0000 (Tue, 11 Nov 2025) EndedAt: 2025-11-11 05:03:11 -0000 (Tue, 11 Nov 2025) EllapsedTime: 198.1 seconds RetCode: 0 Status: OK PackageFile: scReClassify_1.16.0.tar.gz PackageFileSize: 2.482 MiB