Package: scReClassify Version: 1.14.0 Command: /home/biocbuild/R/R/bin/R CMD check --install=check:scReClassify.install-out.txt --library=/home/biocbuild/R/R/site-library --no-vignettes --timings scReClassify_1.14.0.tar.gz StartedAt: 2025-10-14 14:01:28 -0000 (Tue, 14 Oct 2025) EndedAt: 2025-10-14 14:06:01 -0000 (Tue, 14 Oct 2025) EllapsedTime: 273.4 seconds RetCode: 0 Status: OK CheckDir: scReClassify.Rcheck Warnings: 0