Package: scRNAseqApp Version: 1.10.0 Command: /home/biocbuild/R/R/bin/R CMD INSTALL scRNAseqApp StartedAt: 2025-11-10 21:34:42 -0000 (Mon, 10 Nov 2025) EndedAt: 2025-11-10 21:36:11 -0000 (Mon, 10 Nov 2025) EllapsedTime: 89.6 seconds RetCode: 0 Status: OK