Package: scRNAseqApp Version: 1.10.0 Command: /home/biocbuild/R/R/bin/R CMD build --keep-empty-dirs --no-resave-data scRNAseqApp StartedAt: 2025-11-11 05:02:14 -0000 (Tue, 11 Nov 2025) EndedAt: 2025-11-11 05:04:16 -0000 (Tue, 11 Nov 2025) EllapsedTime: 122.0 seconds RetCode: 0 Status: OK PackageFile: scRNAseqApp_1.10.0.tar.gz PackageFileSize: 2.278 MiB