Package: scRNAseqApp Version: 1.8.0 Command: rm -rf scRNAseqApp.buildbin-libdir && mkdir scRNAseqApp.buildbin-libdir && E:\biocbuild\bbs-3.21-bioc\R\bin\R.exe CMD INSTALL --build --library=scRNAseqApp.buildbin-libdir scRNAseqApp_1.8.0.tar.gz StartedAt: 2025-08-15 10:15:57 -0400 (Fri, 15 Aug 2025) EndedAt: 2025-08-15 10:19:00 -0400 (Fri, 15 Aug 2025) EllapsedTime: 183.4 seconds RetCode: 0 Status: OK PackageFile: scRNAseqApp_1.8.0.zip PackageFileSize: 3.55 MiB