Package: scRNAseqApp Version: 1.10.0 Command: /home/biocbuild/bbs-3.22-bioc/R/bin/R CMD build --keep-empty-dirs --no-resave-data --md5 scRNAseqApp StartedAt: 2025-11-11 20:06:56 -0500 (Tue, 11 Nov 2025) EndedAt: 2025-11-11 20:08:24 -0500 (Tue, 11 Nov 2025) EllapsedTime: 88.1 seconds RetCode: 0 Status: OK PackageFile: scRNAseqApp_1.10.0.tar.gz PackageFileSize: 2.219 MiB