Package: scRNAseqApp Version: 1.8.0 Command: /home/biocbuild/R/R/bin/R CMD INSTALL scRNAseqApp StartedAt: 2025-09-25 20:41:40 -0000 (Thu, 25 Sep 2025) EndedAt: 2025-09-25 20:43:10 -0000 (Thu, 25 Sep 2025) EllapsedTime: 89.7 seconds RetCode: 0 Status: OK