Package: scQTLtools Version: 1.2.0 Command: /home/biocbuild/R/R/bin/R CMD INSTALL scQTLtools StartedAt: 2025-11-13 22:04:21 -0000 (Thu, 13 Nov 2025) EndedAt: 2025-11-13 22:05:16 -0000 (Thu, 13 Nov 2025) EllapsedTime: 55.0 seconds RetCode: 0 Status: OK