Package: scQTLtools Version: 1.2.0 Command: /home/biocbuild/R/R/bin/R CMD build --keep-empty-dirs --no-resave-data scQTLtools StartedAt: 2025-11-14 05:11:51 -0000 (Fri, 14 Nov 2025) EndedAt: 2025-11-14 05:13:54 -0000 (Fri, 14 Nov 2025) EllapsedTime: 123.1 seconds RetCode: 0 Status: OK PackageFile: scQTLtools_1.2.0.tar.gz PackageFileSize: 3.979 MiB