Package: scQTLtools Version: 1.2.0 Command: /home/biocbuild/bbs-3.22-bioc/R/bin/R CMD check --install=check:scQTLtools.install-out.txt --library=/home/biocbuild/bbs-3.22-bioc/R/site-library --timings scQTLtools_1.2.0.tar.gz StartedAt: 2025-11-12 03:56:19 -0500 (Wed, 12 Nov 2025) EndedAt: 2025-11-12 04:05:13 -0500 (Wed, 12 Nov 2025) EllapsedTime: 534.4 seconds RetCode: 1 Status: ERROR CheckDir: scQTLtools.Rcheck Warnings: NA