Package: scQTLtools Version: 1.0.3 Command: /home/biocbuild/bbs-3.21-bioc/R/bin/R CMD INSTALL scQTLtools StartedAt: 2025-10-08 15:53:46 -0400 (Wed, 08 Oct 2025) EndedAt: 2025-10-08 15:54:28 -0400 (Wed, 08 Oct 2025) EllapsedTime: 42.8 seconds RetCode: 0 Status: OK