Package: scQTLtools Version: 1.0.1 Command: rm -rf scQTLtools.buildbin-libdir && mkdir scQTLtools.buildbin-libdir && /Users/biocbuild/BBS/utils/build-universal.sh scQTLtools_1.0.1.tar.gz /Library/Frameworks/R.framework/Resources/bin/R scQTLtools.buildbin-libdir StartedAt: 2025-04-22 01:07:58 -0400 (Tue, 22 Apr 2025) EndedAt: 2025-04-22 01:08:58 -0400 (Tue, 22 Apr 2025) EllapsedTime: 60.2 seconds RetCode: 0 Status: OK PackageFile: scQTLtools_1.0.1.tgz PackageFileSize: 2.274 MiB